BEGIN:VCALENDAR
VERSION:2.0
PRODID:-//eventon.com NONSGML v1.0//EN
CALSCALE:GREGORIAN
METHOD:PUBLISH
BEGIN:VEVENT
UID:69e781f7a2c69
DTSTAMP:20260421T135607Z
DTSTART:20210618T220000Z
DTEND:20210620T030000Z
LOCATION:A&amp;P Showgrounds Hawera 6 Burnside Avenue
SUMMARY:New Zealand Schools Cross Country Championships & Relay Championships
DESCRIPTION:New Zealand Schools Cross Country Championships &amp; Relay Cha
 mpionships Date: Saturday 19th and Sunday 20th June 2021 Venue: Hawera\,  T
 aranaki Meet Information: NZSSAA: New Zealand Secondary Schools Athletic As
 sociation\nhttps://athleticsauckland.co.nz/events/new-zealand-schools-cross
 -country-championships-and-relay-championships/
URL:https://athleticsauckland.co.nz/events/new-zealand-schools-cross-country-championships-and-relay-championships/
END:VEVENT
END:VCALENDAR