BEGIN:VCALENDAR
VERSION:2.0
PRODID:-//eventon.com NONSGML v1.0//EN
CALSCALE:GREGORIAN
METHOD:PUBLISH
BEGIN:VEVENT
UID:69e4d3f72152c
DTSTAMP:20260419T130911Z
DTSTART:20230320T193000Z
DTEND:20230321T030000Z
LOCATION:
SUMMARY:Central\,  West\,  & East SS Zone
DESCRIPTION:Venue: The Trusts Stadium College Sport Information\nhttps://at
 hleticsauckland.co.nz/events/central-west-east-ss-zone/
URL:https://athleticsauckland.co.nz/events/central-west-east-ss-zone/
END:VEVENT
END:VCALENDAR