BEGIN:VCALENDAR
VERSION:2.0
PRODID:-//eventon.com NONSGML v1.0//EN
CALSCALE:GREGORIAN
METHOD:PUBLISH
BEGIN:VEVENT
UID:69e785366a237
DTSTAMP:20260421T140958Z
DTSTART:20230917T010000Z
DTEND:20230917T040000Z
LOCATION:
SUMMARY:Auckland Road Relay Championships
DESCRIPTION:Venue: Mt Smart  All Teams will be entered via your club so pl
 ease check with them to enter.  Update on the Auckland Road Relays. As we 
 have been able to redesign a course that stays outside the #1 arena of Mt S
 mart and it has been approved by Mt Smart\, [..]\nhttps://athleticsauckland
 .co.nz/events/auckland-road-relay-championships-2/
URL:https://athleticsauckland.co.nz/events/auckland-road-relay-championships-2/
END:VEVENT
END:VCALENDAR