BEGIN:VCALENDAR
VERSION:2.0
PRODID:-//eventon.com NONSGML v1.0//EN
CALSCALE:GREGORIAN
METHOD:PUBLISH
BEGIN:VEVENT
UID:69e4d51f0fbed
DTSTAMP:20260419T131407Z
DTSTART:20230610T190000Z
DTEND:20230611T000000Z
LOCATION:Herb Towers Track\,  Mt Smart Stadium 51 O'Rorke Road
SUMMARY:Mt Smart Re-Opening #2 Arena Path to Track
DESCRIPTION:Athletics Auckland &amp; Auckland Stadiums Presents: Path to Tr
 ack Path to Track Flyer without QR (003) Path To Track WITH QR Code (003) C
 elebrating the re-opening of Mt Smart #2 Arena Track Due to the series of b
 ad weather\,  we’re getting in touch to let you know that Path To[..]\nht
 tps://athleticsauckland.co.nz/events/mt-smart-re-opening-2-arena-path-to-tr
 ack/
URL:https://athleticsauckland.co.nz/events/mt-smart-re-opening-2-arena-path-to-track/
END:VEVENT
END:VCALENDAR