BEGIN:VCALENDAR
VERSION:2.0
PRODID:-//eventon.com NONSGML v1.0//EN
CALSCALE:GREGORIAN
METHOD:PUBLISH
BEGIN:VEVENT
UID:69e651bf1df9b
DTSTAMP:20260420T161807Z
DTSTART:20240622T010000Z
DTEND:20240622T043000Z
LOCATION:Long Bay Regional Park Beach Road\,  Long Bay\,  0792
SUMMARY:Long Bay Cross Country Race
DESCRIPTION:Long Bay Cross Country Senior League Round 6 Junior Grand Prix 
 Race 3 Date: Saturday 22nd June Venue: Long Bay Regional Park Programme Cou
 rse Map Results &nbsp; Cross Country &amp; Road information can be found on
  our website here\nhttps://athleticsauckland.co.nz/events/long-bay-cross-co
 untry-race/
URL:https://athleticsauckland.co.nz/events/long-bay-cross-country-race/
END:VEVENT
END:VCALENDAR