BEGIN:VCALENDAR
VERSION:2.0
PRODID:-//eventon.com NONSGML v1.0//EN
CALSCALE:GREGORIAN
METHOD:PUBLISH
BEGIN:VEVENT
UID:69e789edb6ed6
DTSTAMP:20260421T143005Z
DTSTART:20240817T010000Z
DTEND:20240817T040000Z
LOCATION:
SUMMARY:Te Hāora | The Hour
DESCRIPTION:Venue: Lovelock Track &amp; War Memorial Park Senior League Rac
 e 8 for athletes U18 and up Things are taking shape for Te Hāora on the 17
 th August and it&#8217;s looking really exciting. A unique concept: teams o
 f 4 and the clock&#8217;s counting down. One baton change every lap. How ma
 ny[..]\nhttps://athleticsauckland.co.nz/events/owairaka-1-hour-road-race/
URL:https://athleticsauckland.co.nz/events/owairaka-1-hour-road-race/
END:VEVENT
END:VCALENDAR