BEGIN:VCALENDAR
VERSION:2.0
PRODID:-//eventon.com NONSGML v1.0//EN
CALSCALE:GREGORIAN
METHOD:PUBLISH
BEGIN:VEVENT
UID:69e8fc7e302c7
DTSTAMP:20260422T165110Z
DTSTART:20241025T210000Z
DTEND:20241026T020000Z
LOCATION:
SUMMARY:NZ 10K Road Running Championships
DESCRIPTION:Venue: Timaru Click Athletics NZ Event Calendar for Details\nht
 tps://athleticsauckland.co.nz/events/nz-10k-road-running-championships/
URL:https://athleticsauckland.co.nz/events/nz-10k-road-running-championships/
END:VEVENT
END:VCALENDAR