BEGIN:VCALENDAR
VERSION:2.0
PRODID:-//eventon.com NONSGML v1.0//EN
CALSCALE:GREGORIAN
METHOD:PUBLISH
BEGIN:VEVENT
UID:69e8f926dccca
DTSTAMP:20260422T163654Z
DTSTART:20260109T080000Z
DTEND:20260111T040000Z
LOCATION:
SUMMARY:2026 North Island Colgate Games
DESCRIPTION:Entries Are Open: Individual EntriesÂ 2026 Colgate Games â€“ No
 rth Island Individual Entries (International)Â 2026 Colgate Games â€“ North
  Island (International Athletes) Relay EntriesÂ 2026 Colgate Games North Is
 land â€“ Relays Relay Entries (International)Â 2026 Colgate North Island â€
 “ Relays (International Athletes) Spectator TicketsÂ 2026 COLGATE GAMES â€“
  NORTH ISLAND &nbsp; 2026 North Island Colgate[..]\nhttps://athleticsauckla
 nd.co.nz/events/2026-north-island-colgate-games/
URL:https://athleticsauckland.co.nz/events/2026-north-island-colgate-games/
END:VEVENT
END:VCALENDAR